BEGIN:VCALENDAR
VERSION:2.0
PRODID:-//ThunderCat Technology - ECPv6.15.20//NONSGML v1.0//EN
CALSCALE:GREGORIAN
METHOD:PUBLISH
X-WR-CALNAME:ThunderCat Technology
X-ORIGINAL-URL:https://www.thundercattech.com
X-WR-CALDESC:Events for ThunderCat Technology
REFRESH-INTERVAL;VALUE=DURATION:PT1H
X-Robots-Tag:noindex
X-PUBLISHED-TTL:PT1H
BEGIN:VTIMEZONE
TZID:America/New_York
BEGIN:DAYLIGHT
TZOFFSETFROM:-0500
TZOFFSETTO:-0400
TZNAME:EDT
DTSTART:20240310T070000
END:DAYLIGHT
BEGIN:STANDARD
TZOFFSETFROM:-0400
TZOFFSETTO:-0500
TZNAME:EST
DTSTART:20241103T060000
END:STANDARD
BEGIN:DAYLIGHT
TZOFFSETFROM:-0500
TZOFFSETTO:-0400
TZNAME:EDT
DTSTART:20250309T070000
END:DAYLIGHT
BEGIN:STANDARD
TZOFFSETFROM:-0400
TZOFFSETTO:-0500
TZNAME:EST
DTSTART:20251102T060000
END:STANDARD
BEGIN:DAYLIGHT
TZOFFSETFROM:-0500
TZOFFSETTO:-0400
TZNAME:EDT
DTSTART:20260308T070000
END:DAYLIGHT
BEGIN:STANDARD
TZOFFSETFROM:-0400
TZOFFSETTO:-0500
TZNAME:EST
DTSTART:20261101T060000
END:STANDARD
END:VTIMEZONE
BEGIN:VEVENT
DTSTART;VALUE=DATE:20250401
DTEND;VALUE=DATE:20250403
DTSTAMP:20260422T052143
CREATED:20250331T183907Z
LAST-MODIFIED:20250513T183958Z
UID:10881-1743465600-1743638399@www.thundercattech.com
SUMMARY:Spring Intel Symposium
DESCRIPTION:Spring Intel Symposium \nDates: April 1 – 2 \nLocation: Springfield\, VA \n  \nReps Available for Meetings: \nJQ Beaty (Account Executive) jqbeaty@thundercattech.com \nRodney Butcher (IC & DOD Cyber Account Manager) rbutcher@thundercattech.com \nDave McCloy (Account Manager\, Intel) dmcloy@thundercattech.com \nHarold Hinson (Intel Cyber Account Manager) hhinson@thundercattech.com
URL:https://www.thundercattech.com/events/spring-intel-symposium-2/
END:VEVENT
END:VCALENDAR