BEGIN:VCALENDAR
VERSION:2.0
PRODID:-//ThunderCat Technology - ECPv6.15.20//NONSGML v1.0//EN
CALSCALE:GREGORIAN
METHOD:PUBLISH
X-WR-CALNAME:ThunderCat Technology
X-ORIGINAL-URL:https://www.thundercattech.com
X-WR-CALDESC:Events for ThunderCat Technology
REFRESH-INTERVAL;VALUE=DURATION:PT1H
X-Robots-Tag:noindex
X-PUBLISHED-TTL:PT1H
BEGIN:VTIMEZONE
TZID:America/New_York
BEGIN:DAYLIGHT
TZOFFSETFROM:-0500
TZOFFSETTO:-0400
TZNAME:EDT
DTSTART:20240310T070000
END:DAYLIGHT
BEGIN:STANDARD
TZOFFSETFROM:-0400
TZOFFSETTO:-0500
TZNAME:EST
DTSTART:20241103T060000
END:STANDARD
BEGIN:DAYLIGHT
TZOFFSETFROM:-0500
TZOFFSETTO:-0400
TZNAME:EDT
DTSTART:20250309T070000
END:DAYLIGHT
BEGIN:STANDARD
TZOFFSETFROM:-0400
TZOFFSETTO:-0500
TZNAME:EST
DTSTART:20251102T060000
END:STANDARD
BEGIN:DAYLIGHT
TZOFFSETFROM:-0500
TZOFFSETTO:-0400
TZNAME:EDT
DTSTART:20260308T070000
END:DAYLIGHT
BEGIN:STANDARD
TZOFFSETFROM:-0400
TZOFFSETTO:-0500
TZNAME:EST
DTSTART:20261101T060000
END:STANDARD
END:VTIMEZONE
BEGIN:VEVENT
DTSTART;VALUE=DATE:20250423
DTEND;VALUE=DATE:20250424
DTSTAMP:20260420T082531
CREATED:20250402T184528Z
LAST-MODIFIED:20250513T184617Z
UID:10893-1745366400-1745452799@www.thundercattech.com
SUMMARY:NY IT Leadership Forum
DESCRIPTION:NY IT Leadership Forum \nDates: April 23 \nLocation: Albany\, NY \n  \nReps Available for Meetings: \nKent Stokley (Director\, SLED) kstokley@thundercattech.com \nDustin Vanella (SLED Account Manager) dvanella@thundercattech.com
URL:https://www.thundercattech.com/events/ny-it-leadership-forum/
END:VEVENT
END:VCALENDAR