BEGIN:VCALENDAR
VERSION:2.0
PRODID:-//ThunderCat Technology - ECPv6.15.20//NONSGML v1.0//EN
CALSCALE:GREGORIAN
METHOD:PUBLISH
X-ORIGINAL-URL:https://www.thundercattech.com
X-WR-CALDESC:Events for ThunderCat Technology
REFRESH-INTERVAL;VALUE=DURATION:PT1H
X-Robots-Tag:noindex
X-PUBLISHED-TTL:PT1H
BEGIN:VTIMEZONE
TZID:America/New_York
BEGIN:DAYLIGHT
TZOFFSETFROM:-0500
TZOFFSETTO:-0400
TZNAME:EDT
DTSTART:20250309T070000
END:DAYLIGHT
BEGIN:STANDARD
TZOFFSETFROM:-0400
TZOFFSETTO:-0500
TZNAME:EST
DTSTART:20251102T060000
END:STANDARD
BEGIN:DAYLIGHT
TZOFFSETFROM:-0500
TZOFFSETTO:-0400
TZNAME:EDT
DTSTART:20260308T070000
END:DAYLIGHT
BEGIN:STANDARD
TZOFFSETFROM:-0400
TZOFFSETTO:-0500
TZNAME:EST
DTSTART:20261101T060000
END:STANDARD
BEGIN:DAYLIGHT
TZOFFSETFROM:-0500
TZOFFSETTO:-0400
TZNAME:EDT
DTSTART:20270314T070000
END:DAYLIGHT
BEGIN:STANDARD
TZOFFSETFROM:-0400
TZOFFSETTO:-0500
TZNAME:EST
DTSTART:20271107T060000
END:STANDARD
END:VTIMEZONE
BEGIN:VEVENT
DTSTART;VALUE=DATE:20260505
DTEND;VALUE=DATE:20260508
DTSTAMP:20260424T072159
CREATED:20260302T145948Z
LAST-MODIFIED:20260302T145948Z
UID:12653-1777939200-1778198399@www.thundercattech.com
SUMMARY:AFCEA Belvoir Industry Days
DESCRIPTION:AFCEA Belvoir Industry Days \nDates: May 5-7th \nLocation: Alexandria\, VA \n  \nReps available for meetings: \nCarter Vaughan\, Army Cyber Accounts\, cvaughan@thundercattech.com \nTodd Garside\, Army Cyber Accounts\, tgarside@thundercattech.com
URL:https://www.thundercattech.com/events/afcea-belvoir-industry-days-2/
END:VEVENT
BEGIN:VEVENT
DTSTART;VALUE=DATE:20260511
DTEND;VALUE=DATE:20260512
DTSTAMP:20260424T072159
CREATED:20260302T150118Z
LAST-MODIFIED:20260302T150118Z
UID:12654-1778457600-1778543999@www.thundercattech.com
SUMMARY:Versatility
DESCRIPTION:Versatility \nDates: May 11th \nLocation: Santa Clara\, CA \n  \nReps available for meetings: \n 
URL:https://www.thundercattech.com/events/versatility/
END:VEVENT
BEGIN:VEVENT
DTSTART;VALUE=DATE:20260518
DTEND;VALUE=DATE:20260522
DTSTAMP:20260424T072159
CREATED:20260302T155034Z
LAST-MODIFIED:20260302T155034Z
UID:12655-1779062400-1779407999@www.thundercattech.com
SUMMARY:SOF Week
DESCRIPTION:SOF Week \nDates: May 18-21st \nLocation: Tampa\, FL \n  \nReps available for meetings: \nKarl Alzner\, Partner Manager\, kalzner@thundercattech.com \nRodney Butcher\, IC & DOD Cyber Accounts\, rbutcher@thundercattech.com \nJQ Beaty\, Special Programs\, jqbeaty@thundercattech.com \nJeremy Button\, Account Manager\, Collab\, jbutton@thundercattech.com \nElliot Belzer\, Air Force Accounts\, ebelzer@thundercattech.com
URL:https://www.thundercattech.com/events/sof-week/
END:VEVENT
BEGIN:VEVENT
DTSTART;VALUE=DATE:20260521
DTEND;VALUE=DATE:20260522
DTSTAMP:20260424T072159
CREATED:20260407T155337Z
LAST-MODIFIED:20260407T155337Z
UID:12707-1779321600-1779407999@www.thundercattech.com
SUMMARY:Cribl Connect 26
DESCRIPTION:Cribl Connect 26 \nDates: May 21st \nLocation: Washington\, DC \n  \nReps available for meetings: \n 
URL:https://www.thundercattech.com/events/cribl-connect-26/
END:VEVENT
BEGIN:VEVENT
DTSTART;VALUE=DATE:20260526
DTEND;VALUE=DATE:20260529
DTSTAMP:20260424T072159
CREATED:20260407T160029Z
LAST-MODIFIED:20260407T160029Z
UID:12708-1779753600-1780012799@www.thundercattech.com
SUMMARY:Small Business Summit 2026
DESCRIPTION:Small Business Summit \nDates: May 26-28th \nLocation: Aurora\, CO \n  \nReps available for meetings: \nJosh Friedman\, Cyber Account Manager\, jfriedman@thundercattech.com \nKevin Hall\, DOE Cyber Account Manager\, khall@thundercattech.com \nFabian Murillo\, DOE Cyber Account Manager\, fmurillo@thundercattech.com \n 
URL:https://www.thundercattech.com/events/small-business-summit-2026/
END:VEVENT
BEGIN:VEVENT
DTSTART;VALUE=DATE:20260531
DTEND;VALUE=DATE:20260605
DTSTAMP:20260424T072159
CREATED:20260423T173958Z
LAST-MODIFIED:20260423T173958Z
UID:12730-1780185600-1780617599@www.thundercattech.com
SUMMARY:Cisco Live 2026
DESCRIPTION:Cisco Live 2026  \nDates: May 31-June 4 \nLocation: Las Vegas\, NV \n  \nReps available for meetings: \n 
URL:https://www.thundercattech.com/events/cisco-live-2026/
END:VEVENT
BEGIN:VEVENT
DTSTART;VALUE=DATE:20260601
DTEND;VALUE=DATE:20260605
DTSTAMP:20260424T072159
CREATED:20260423T174333Z
LAST-MODIFIED:20260423T174333Z
UID:12731-1780272000-1780617599@www.thundercattech.com
SUMMARY:VETS26
DESCRIPTION:VETS26 \nDates: June 1-4 \nLocation: New Orleans\, LA \n  \nReps available for meetings:
URL:https://www.thundercattech.com/events/vets26/
END:VEVENT
BEGIN:VEVENT
DTSTART;VALUE=DATE:20260602
DTEND;VALUE=DATE:20260603
DTSTAMP:20260424T072159
CREATED:20260423T181826Z
LAST-MODIFIED:20260423T181826Z
UID:12734-1780358400-1780444799@www.thundercattech.com
SUMMARY:NYU Tech Fest
DESCRIPTION:NYU Tech Fest \nDates: June 2nd \nLocation: NY\, NY \n  \nReps available for meetings: \nPat O’Hanlon\, SVP Strategy & Business Development\, pohanlon@thundercattech.com
URL:https://www.thundercattech.com/events/nyu-tech-fest/
END:VEVENT
BEGIN:VEVENT
DTSTART;VALUE=DATE:20260602
DTEND;VALUE=DATE:20260604
DTSTAMP:20260424T072159
CREATED:20260423T175402Z
LAST-MODIFIED:20260423T180451Z
UID:12732-1780358400-1780531199@www.thundercattech.com
SUMMARY:NYS 2026 Cybersecurity Conference
DESCRIPTION:NYS 2026 Cybersecurity Conference \nDates: June 2-3 \nLocation: Albany\, NY \n  \nReps available for meetings: \nKent Stokley\, VP of Sales\, SLED\, kstokley@thundercattech.com \nDustin Vanella\, NY SLED Accounts\, dvanella@thundercattech.com \nMike McManus\, SLED CTO\, mmcmanus@thundercattech.com
URL:https://www.thundercattech.com/events/nys-2026-cybersecurity-conference/
END:VEVENT
BEGIN:VEVENT
DTSTART;VALUE=DATE:20260602
DTEND;VALUE=DATE:20260605
DTSTAMP:20260424T072159
CREATED:20260423T181618Z
LAST-MODIFIED:20260423T181618Z
UID:12733-1780358400-1780617599@www.thundercattech.com
SUMMARY:TechNet Cyber
DESCRIPTION:TechNet Cyber \nDates: June 2-4 \nLocation: Baltimore\, MD \nBooth #3256 \n  \nReps available for meetings: \nCarter Vaughan\, Army Cyber Accounts\, cvaughan@thundercattech.com \nVince Holtmann\, DOD/SI Cyber\, vholtmann@thundercattech.com
URL:https://www.thundercattech.com/events/technet-cyber-3/
END:VEVENT
BEGIN:VEVENT
DTSTART;VALUE=DATE:20260603
DTEND;VALUE=DATE:20260607
DTSTAMP:20260424T072159
CREATED:20260423T182251Z
LAST-MODIFIED:20260423T182251Z
UID:12736-1780444800-1780790399@www.thundercattech.com
SUMMARY:Co-Op Cyber Tech
DESCRIPTION:Co-Op Cyber Tech \nDates: June 3-6 \nLocation: Indianapolis\, IN \n  \nReps available for meetings: \nBeau Nuanes\, Systems Engineer\, bnuanes@thundercattech.com \nJon Morgan\, Cyber Engineer\, jmorgan@thundercattech.com
URL:https://www.thundercattech.com/events/co-op-cyber-tech-2/
END:VEVENT
BEGIN:VEVENT
DTSTART;VALUE=DATE:20260609
DTEND;VALUE=DATE:20260611
DTSTAMP:20260424T072159
CREATED:20260423T184649Z
LAST-MODIFIED:20260423T184649Z
UID:12737-1780963200-1781135999@www.thundercattech.com
SUMMARY:RVAsec
DESCRIPTION:RVAsec \nDates: June 9-10 \nLocation: Richmond\, Va \n  \nReps available for meetings: \nErik Schroeder\, SLED VA Accounts\, eschroeder@thundercattech.com
URL:https://www.thundercattech.com/events/rvasec-2/
END:VEVENT
BEGIN:VEVENT
DTSTART;VALUE=DATE:20260610
DTEND;VALUE=DATE:20260611
DTSTAMP:20260424T072159
CREATED:20260423T184810Z
LAST-MODIFIED:20260423T184810Z
UID:12735-1781049600-1781135999@www.thundercattech.com
SUMMARY:UVA Small Business Expo
DESCRIPTION:UVA Small Business Expo \nDates: June 10th \nLocation: Charlottesville\, Va \n  \nReps available for meetings: \nErik Schroeder\, SLED VA Accounts\, eschroeder@thundercattech.com
URL:https://www.thundercattech.com/events/uva-small-business-expo/
END:VEVENT
BEGIN:VEVENT
DTSTART;VALUE=DATE:20260809
DTEND;VALUE=DATE:20260813
DTSTAMP:20260424T072159
CREATED:20260423T192350Z
LAST-MODIFIED:20260423T192350Z
UID:12738-1786233600-1786579199@www.thundercattech.com
SUMMARY:DoDIIS
DESCRIPTION:DoDIIS \nDates: August 9-12 \nLocation: Tampa\, FL \n  \nReps available for meetings: \nDave McCloy\, Intel\, dmccloy@thundercattech.com \nRodney Butcher\, IC & DOD Cyber Accounts\, rbutcher@thundercattech.com \nElliot Belzer\, Air Force\, ebelzer@thundercattech.com \nJQ Beaty\, Special Programs\, jqbeaty@thundercattech.com
URL:https://www.thundercattech.com/events/dodiis-3/
END:VEVENT
BEGIN:VEVENT
DTSTART;VALUE=DATE:20260814
DTEND;VALUE=DATE:20260815
DTSTAMP:20260424T072159
CREATED:20260423T192650Z
LAST-MODIFIED:20260423T192650Z
UID:12740-1786665600-1786751999@www.thundercattech.com
SUMMARY:Commonwealth of Virginia Information Security Conference
DESCRIPTION:Commonwealth of Virginia Information Security Conference\n \nDates: August 14th \nLocation: Richmond\, VA \n  \nReps available for meetings: \nMatt East\, SLED VA Accounts\, meast@thundercattech.com \nErik Schroeder\, SLED VA Accounts\, eschroeder@thundercattech.com
URL:https://www.thundercattech.com/events/commonwealth-of-virginia-information-security-conference/
END:VEVENT
END:VCALENDAR