BEGIN:VCALENDAR
VERSION:2.0
PRODID:-//ThunderCat Technology - ECPv6.15.20//NONSGML v1.0//EN
CALSCALE:GREGORIAN
METHOD:PUBLISH
X-WR-CALNAME:ThunderCat Technology
X-ORIGINAL-URL:https://www.thundercattech.com
X-WR-CALDESC:Events for ThunderCat Technology
REFRESH-INTERVAL;VALUE=DURATION:PT1H
X-Robots-Tag:noindex
X-PUBLISHED-TTL:PT1H
BEGIN:VTIMEZONE
TZID:UTC
BEGIN:STANDARD
TZOFFSETFROM:+0000
TZOFFSETTO:+0000
TZNAME:UTC
DTSTART:20220101T000000
END:STANDARD
END:VTIMEZONE
BEGIN:VEVENT
DTSTART;VALUE=DATE:20230417
DTEND;VALUE=DATE:20230422
DTSTAMP:20260421T110315
CREATED:20230208T000406Z
LAST-MODIFIED:20240501T200105Z
UID:7222-1681689600-1682121599@www.thundercattech.com
SUMMARY:HIMSS
DESCRIPTION:[vc_row][vc_column][vc_column_text css=””]HIMSS \nDates: Apr. 17-21 \nLocation: Chicago\, IL \n  \nReps Available for Meetings: \nPatrick Staul (Federal Healthcare Account Manager)- pstaul@thundercattech.com \nDan Kapil (Senior Director of Health IT)- dkapil@thundercattech.com \nJosh Pratt (Health IT Account Manager)- jpratt@thundercattech.com[/vc_column_text][/vc_column][/vc_row]
URL:https://www.thundercattech.com/events/himss-2/
END:VEVENT
END:VCALENDAR