BEGIN:VCALENDAR
VERSION:2.0
PRODID:-//ThunderCat Technology - ECPv6.15.20//NONSGML v1.0//EN
CALSCALE:GREGORIAN
METHOD:PUBLISH
X-WR-CALNAME:ThunderCat Technology
X-ORIGINAL-URL:https://www.thundercattech.com
X-WR-CALDESC:Events for ThunderCat Technology
REFRESH-INTERVAL;VALUE=DURATION:PT1H
X-Robots-Tag:noindex
X-PUBLISHED-TTL:PT1H
BEGIN:VTIMEZONE
TZID:UTC
BEGIN:STANDARD
TZOFFSETFROM:+0000
TZOFFSETTO:+0000
TZNAME:UTC
DTSTART:20210101T000000
END:STANDARD
END:VTIMEZONE
BEGIN:VEVENT
DTSTART;VALUE=DATE:20221206
DTEND;VALUE=DATE:20221210
DTSTAMP:20260424T094328
CREATED:20221110T234718Z
LAST-MODIFIED:20240501T203620Z
UID:7141-1670284800-1670630399@www.thundercattech.com
SUMMARY:DOE Cyber Fire
DESCRIPTION:[vc_row][vc_column][vc_column_text css=””]DOE Cyber Fire\nDates: Dec. 6-9\nLocation: Louisville\, KY \n  \nReps available for meetings: \nBeau Nuanes (Cyber Systems Engineer): bnuanes@thundercattech.com \n[/vc_column_text][/vc_column][/vc_row]
URL:https://www.thundercattech.com/events/doe-cyber-fire/
ATTACH;FMTTYPE=image/jpeg:https://www.thundercattech.com/wp-content/uploads/2021/04/TCAT_Resource_Events.jpg
END:VEVENT
END:VCALENDAR