BEGIN:VCALENDAR
VERSION:2.0
PRODID:-//ThunderCat Technology - ECPv6.15.20//NONSGML v1.0//EN
CALSCALE:GREGORIAN
METHOD:PUBLISH
X-ORIGINAL-URL:https://www.thundercattech.com
X-WR-CALDESC:Events for ThunderCat Technology
REFRESH-INTERVAL;VALUE=DURATION:PT1H
X-Robots-Tag:noindex
X-PUBLISHED-TTL:PT1H
BEGIN:VTIMEZONE
TZID:America/New_York
BEGIN:DAYLIGHT
TZOFFSETFROM:-0500
TZOFFSETTO:-0400
TZNAME:EDT
DTSTART:20250309T070000
END:DAYLIGHT
BEGIN:STANDARD
TZOFFSETFROM:-0400
TZOFFSETTO:-0500
TZNAME:EST
DTSTART:20251102T060000
END:STANDARD
BEGIN:DAYLIGHT
TZOFFSETFROM:-0500
TZOFFSETTO:-0400
TZNAME:EDT
DTSTART:20260308T070000
END:DAYLIGHT
BEGIN:STANDARD
TZOFFSETFROM:-0400
TZOFFSETTO:-0500
TZNAME:EST
DTSTART:20261101T060000
END:STANDARD
BEGIN:DAYLIGHT
TZOFFSETFROM:-0500
TZOFFSETTO:-0400
TZNAME:EDT
DTSTART:20270314T070000
END:DAYLIGHT
BEGIN:STANDARD
TZOFFSETFROM:-0400
TZOFFSETTO:-0500
TZNAME:EST
DTSTART:20271107T060000
END:STANDARD
END:VTIMEZONE
BEGIN:VEVENT
DTSTART;VALUE=DATE:20260304
DTEND;VALUE=DATE:20260307
DTSTAMP:20260421T052730
CREATED:20260203T161033Z
LAST-MODIFIED:20260203T161033Z
UID:12584-1772582400-1772841599@www.thundercattech.com
SUMMARY:ThreatLocker Zero Trust World 2026
DESCRIPTION:ThreatLocker Zero Trust World 2026 \nDates: March 4-6th \nLocation: Orlando\, FL \n  \nReps available for meetings: \nGreg Huerbin\, Federal Systems Integrators\, ghuerbin@thundercattech.com
URL:https://www.thundercattech.com/events/threatlocker-zero-trust-world-2026/
END:VEVENT
BEGIN:VEVENT
DTSTART;TZID=America/New_York:20260304T130000
DTEND;TZID=America/New_York:20260304T140000
DTSTAMP:20260421T052730
CREATED:20260203T153640Z
LAST-MODIFIED:20260203T153640Z
UID:12582-1772629200-1772632800@www.thundercattech.com
SUMMARY:Reading The Cards - What do the Cards Hold for Cybersecurity for the Public Sector
DESCRIPTION:Reading The Cards – What do the Cards Hold for Cybersecurity for the Public Sector Arctic Wolf and ThunderCat \nDates: March 4th \nLocation: Virtual \nClick here to register
URL:https://www.thundercattech.com/events/reading-the-cards-what-do-the-cards-hold-for-cybersecurity-for-the-public-sector/
END:VEVENT
END:VCALENDAR