BEGIN:VCALENDAR
VERSION:2.0
PRODID:-//ThunderCat Technology - ECPv6.15.20//NONSGML v1.0//EN
CALSCALE:GREGORIAN
METHOD:PUBLISH
X-ORIGINAL-URL:https://www.thundercattech.com
X-WR-CALDESC:Events for ThunderCat Technology
REFRESH-INTERVAL;VALUE=DURATION:PT1H
X-Robots-Tag:noindex
X-PUBLISHED-TTL:PT1H
BEGIN:VTIMEZONE
TZID:America/New_York
BEGIN:DAYLIGHT
TZOFFSETFROM:-0500
TZOFFSETTO:-0400
TZNAME:EDT
DTSTART:20250309T070000
END:DAYLIGHT
BEGIN:STANDARD
TZOFFSETFROM:-0400
TZOFFSETTO:-0500
TZNAME:EST
DTSTART:20251102T060000
END:STANDARD
BEGIN:DAYLIGHT
TZOFFSETFROM:-0500
TZOFFSETTO:-0400
TZNAME:EDT
DTSTART:20260308T070000
END:DAYLIGHT
BEGIN:STANDARD
TZOFFSETFROM:-0400
TZOFFSETTO:-0500
TZNAME:EST
DTSTART:20261101T060000
END:STANDARD
BEGIN:DAYLIGHT
TZOFFSETFROM:-0500
TZOFFSETTO:-0400
TZNAME:EDT
DTSTART:20270314T070000
END:DAYLIGHT
BEGIN:STANDARD
TZOFFSETFROM:-0400
TZOFFSETTO:-0500
TZNAME:EST
DTSTART:20271107T060000
END:STANDARD
END:VTIMEZONE
BEGIN:VEVENT
DTSTART;VALUE=DATE:20260303
DTEND;VALUE=DATE:20260304
DTSTAMP:20260419T093758
CREATED:20260122T205254Z
LAST-MODIFIED:20260122T205254Z
UID:12563-1772496000-1772582399@www.thundercattech.com
SUMMARY:AI SOC Summit - Crogl
DESCRIPTION:AI SOC Summit – Crogl \nDates: March 3rd \nLocation: Tysons\, VA \n  \nReps available for meetings: \nDaren Presbitero\, Cybersecurity Specialist\, dpresbitero@thundercattech.com \nKevin Hall\, DOE Cyber Account Manager\, khall@thundercattech.com \nSteven Schumm\, Cyber Account Manager\, sschumm@thundercattech.com \nKent Stokley\, Director of Sales\, SLED\, kstokley@thundercattech.com 
URL:https://www.thundercattech.com/events/ai-soc-summit-crogl/
END:VEVENT
END:VCALENDAR